View In:
ArcGIS JavaScript
ArcGIS Online Map Viewer
ArcGIS Earth
ArcMap
View Footprint In:
ArcGIS Online Map Viewer
Service Description: HS_IMAGE/HSDSM
Name: HS_IMAGE/HSDSM
Description:
Single Fused Map Cache: true
Tile Info:
- Height: 256
- Width: 256
- DPI: 96
-
Levels of Detail: 20
-
Level ID: 0
[ Start Tile, End Tile ]
- Resolution: 0.7031250000000002
- Scale: 2.9549759305875003E8
-
Level ID: 1
[ Start Tile, End Tile ]
- Resolution: 0.3515625000000001
- Scale: 1.4774879652937502E8
-
Level ID: 2
[ Start Tile, End Tile ]
- Resolution: 0.17578125000000006
- Scale: 7.387439826468751E7
-
Level ID: 3
[ Start Tile, End Tile ]
- Resolution: 0.08789062500000003
- Scale: 3.6937199132343754E7
-
Level ID: 4
[ Start Tile, End Tile ]
- Resolution: 0.043945312500000014
- Scale: 1.8468599566171877E7
-
Level ID: 5
[ Start Tile, End Tile ]
- Resolution: 0.021972656250000007
- Scale: 9234299.783085939
-
Level ID: 6
[ Start Tile, End Tile ]
- Resolution: 0.010986328125000003
- Scale: 4617149.891542969
-
Level ID: 7
[ Start Tile, End Tile ]
- Resolution: 0.005493164062500002
- Scale: 2308574.9457714846
-
Level ID: 8
[ Start Tile, End Tile ]
- Resolution: 0.002746582031250001
- Scale: 1154287.4728857423
-
Level ID: 9
[ Start Tile, End Tile ]
- Resolution: 0.0013732910156250004
- Scale: 577143.7364428712
-
Level ID: 10
[ Start Tile, End Tile ]
- Resolution: 6.866455078125002E-4
- Scale: 288571.8682214356
-
Level ID: 11
[ Start Tile, End Tile ]
- Resolution: 3.433227539062501E-4
- Scale: 144285.9341107178
-
Level ID: 12
[ Start Tile, End Tile ]
- Resolution: 1.7166137695312505E-4
- Scale: 72142.9670553589
-
Level ID: 13
[ Start Tile, End Tile ]
- Resolution: 8.583068847656253E-5
- Scale: 36071.48352767945
-
Level ID: 14
[ Start Tile, End Tile ]
- Resolution: 4.2915344238281264E-5
- Scale: 18035.741763839724
-
Level ID: 15
[ Start Tile, End Tile ]
- Resolution: 2.1457672119140632E-5
- Scale: 9017.870881919862
-
Level ID: 16
[ Start Tile, End Tile ]
- Resolution: 1.0728836059570316E-5
- Scale: 4508.935440959931
-
Level ID: 17
[ Start Tile, End Tile ]
- Resolution: 5.364418029785158E-6
- Scale: 2254.4677204799655
-
Level ID: 18
[ Start Tile, End Tile ]
- Resolution: 2.682209014892579E-6
- Scale: 1127.2338602399827
-
Level ID: 19
[ Start Tile, End Tile ]
- Resolution: 1.3411045074462895E-6
- Scale: 563.6169301199914
- Format: LERC
- Compression Quality: 0.0
- LERC Error: 0.05
- Origin: X: -180.0
Y: 90.0
- Spatial Reference: 4490
(4490)
Extent:
XMin: 117.12222222222188
YMin: 29.334166666666672
XMax: 118.94749999999965
YMax: 30.634444444444444
Spatial Reference: 4490
(4490)
Initial Extent:
XMin: 117.12222222222188
YMin: 29.334166666666672
XMax: 118.94749999999965
YMax: 30.634444444444444
Spatial Reference: 4490
(4490)
Full Extent:
XMin: 117.12222222222188
YMin: 29.334166666666672
XMax: 118.94749999999965
YMax: 30.634444444444444
Spatial Reference: 4490
(4490)
Pixel Size X: 2.7777777777777675E-4
Pixel Size Y: 2.777777777777766E-4
Band Count: 1
Pixel Type: S16
RasterFunction Infos: {"name":"None","description":"空操作函数。","help":""}
Mensuration Capabilities: Basic
Has Histograms: true
Has Colormap: false
Has Multi Dimensions : false
Rendering Rule:
Min Scale: 2.9549759305875003E8
Max Scale: 36071.48352767945
Copyright Text:
Service Data Type: esriImageServiceDataTypeGeneric
Min Values: 48
Max Values: 1850
Mean Values: 377.45158283427
Standard Deviation Values: 233.26334395355
Object ID Field:
Fields:
None
Default Mosaic Method: Center
Allowed Mosaic Methods:
SortField:
SortValue: null
Mosaic Operator: First
Default Compression Quality: 75
Default Resampling Method: Bilinear
Max Record Count: null
Max Image Height: 4100
Max Image Width: 15000
Max Download Image Count: null
Max Mosaic Image Count: null
Allow Raster Function: true
Allow Compute TiePoints: false
Supports Statistics: false
Supports Advanced Queries: false
Use StandardizedQueries: true
Raster Type Infos:
Name: Raster Dataset
Description: Supports all ArcGIS Raster Datasets
Help:
Has Raster Attribute Table: false
Edit Fields Info: null
Ownership Based AccessControl For Rasters: null
Child Resources:
Info
Histograms
Key Properties
Legend
MultiDimensionalInfo
rasterFunctionInfos
Supported Operations:
Export Image
Identify
Measure
Compute Histograms
Compute Statistics Histograms
Get Samples
Compute Class Statistics
Query Boundary