{
 "currentVersion": 10.6,
 "serviceDescription": "",
 "mapName": "Layers",
 "description": "",
 "copyrightText": "",
 "supportsDynamicLayers": true,
 "layers": [
  {
   "id": 29,
   "name": "道路名",
   "parentLayerId": -1,
   "defaultVisibility": true,
   "subLayerIds": [
    17
   ],
   "minScale": 0,
   "maxScale": 0
  },
  {
   "id": 17,
   "name": "TX-道路名",
   "parentLayerId": 29,
   "defaultVisibility": true,
   "subLayerIds": null,
   "minScale": 0,
   "maxScale": 0
  },
  {
   "id": 18,
   "name": "道路线",
   "parentLayerId": -1,
   "defaultVisibility": true,
   "subLayerIds": null,
   "minScale": 0,
   "maxScale": 0
  },
  {
   "id": 19,
   "name": "规划单元注记",
   "parentLayerId": -1,
   "defaultVisibility": true,
   "subLayerIds": [
    7
   ],
   "minScale": 0,
   "maxScale": 0
  },
  {
   "id": 7,
   "name": "Annotation Class 1",
   "parentLayerId": 19,
   "defaultVisibility": true,
   "subLayerIds": null,
   "minScale": 0,
   "maxScale": 0
  },
  {
   "id": 27,
   "name": "规划单元",
   "parentLayerId": -1,
   "defaultVisibility": true,
   "subLayerIds": null,
   "minScale": 0,
   "maxScale": 0
  },
  {
   "id": 21,
   "name": "轨道线网中心线和控制线规划-标注",
   "parentLayerId": -1,
   "defaultVisibility": true,
   "subLayerIds": null,
   "minScale": 0,
   "maxScale": 0
  },
  {
   "id": 22,
   "name": "轨道线网中心线和控制线规划",
   "parentLayerId": -1,
   "defaultVisibility": true,
   "subLayerIds": null,
   "minScale": 0,
   "maxScale": 0
  },
  {
   "id": 23,
   "name": "旅游设施范围",
   "parentLayerId": -1,
   "defaultVisibility": true,
   "subLayerIds": null,
   "minScale": 0,
   "maxScale": 0
  },
  {
   "id": 24,
   "name": "旅游设施注记",
   "parentLayerId": -1,
   "defaultVisibility": true,
   "subLayerIds": [
    15
   ],
   "minScale": 0,
   "maxScale": 0
  },
  {
   "id": 15,
   "name": "Annotation Class 1",
   "parentLayerId": 24,
   "defaultVisibility": true,
   "subLayerIds": null,
   "minScale": 0,
   "maxScale": 0
  },
  {
   "id": 25,
   "name": "体育设施范围",
   "parentLayerId": -1,
   "defaultVisibility": true,
   "subLayerIds": null,
   "minScale": 0,
   "maxScale": 0
  },
  {
   "id": 26,
   "name": "体育设施注记",
   "parentLayerId": -1,
   "defaultVisibility": true,
   "subLayerIds": [
    20
   ],
   "minScale": 0,
   "maxScale": 0
  },
  {
   "id": 20,
   "name": "Annotation Class 1",
   "parentLayerId": 26,
   "defaultVisibility": true,
   "subLayerIds": null,
   "minScale": 0,
   "maxScale": 0
  },
  {
   "id": 28,
   "name": "文化设施注记",
   "parentLayerId": -1,
   "defaultVisibility": true,
   "subLayerIds": [
    0
   ],
   "minScale": 0,
   "maxScale": 0
  },
  {
   "id": 0,
   "name": "Annotation Class 1",
   "parentLayerId": 28,
   "defaultVisibility": true,
   "subLayerIds": null,
   "minScale": 0,
   "maxScale": 0
  },
  {
   "id": 30,
   "name": "文化设施范围",
   "parentLayerId": -1,
   "defaultVisibility": true,
   "subLayerIds": null,
   "minScale": 0,
   "maxScale": 0
  },
  {
   "id": 31,
   "name": "医疗设施范围",
   "parentLayerId": -1,
   "defaultVisibility": true,
   "subLayerIds": null,
   "minScale": 0,
   "maxScale": 0
  },
  {
   "id": 32,
   "name": "医疗设施注记",
   "parentLayerId": -1,
   "defaultVisibility": true,
   "subLayerIds": [
    11
   ],
   "minScale": 0,
   "maxScale": 0
  },
  {
   "id": 11,
   "name": "Annotation Class 1",
   "parentLayerId": 32,
   "defaultVisibility": true,
   "subLayerIds": null,
   "minScale": 0,
   "maxScale": 0
  },
  {
   "id": 33,
   "name": "应急设施范围",
   "parentLayerId": -1,
   "defaultVisibility": true,
   "subLayerIds": null,
   "minScale": 0,
   "maxScale": 0
  },
  {
   "id": 34,
   "name": "应急设施注记",
   "parentLayerId": -1,
   "defaultVisibility": true,
   "subLayerIds": [
    5
   ],
   "minScale": 0,
   "maxScale": 0
  },
  {
   "id": 5,
   "name": "Annotation Class 1",
   "parentLayerId": 34,
   "defaultVisibility": true,
   "subLayerIds": null,
   "minScale": 0,
   "maxScale": 0
  }
 ],
 "tables": [],
 "spatialReference": {
  "wkid": 4490,
  "latestWkid": 4490
 },
 "singleFusedMapCache": true,
 "tileInfo": {
  "rows": 256,
  "cols": 256,
  "dpi": 96,
  "format": "MIXED",
  "compressionQuality": 75,
  "origin": {
   "x": -180,
   "y": 90
  },
  "spatialReference": {
   "wkid": 4490,
   "latestWkid": 4490
  },
  "lods": [
   {
    "level": 0,
    "resolution": 1.4078260157100582,
    "scale": 5.91657527591555E8
   },
   {
    "level": 1,
    "resolution": 0.7031250000000002,
    "scale": 2.9549759305875003E8
   },
   {
    "level": 2,
    "resolution": 0.3515625000000001,
    "scale": 1.4774879652937502E8
   },
   {
    "level": 3,
    "resolution": 0.17578125000000006,
    "scale": 7.387439826468751E7
   },
   {
    "level": 4,
    "resolution": 0.08789062500000003,
    "scale": 3.6937199132343754E7
   },
   {
    "level": 5,
    "resolution": 0.043945312500000014,
    "scale": 1.8468599566171877E7
   },
   {
    "level": 6,
    "resolution": 0.021972656250000007,
    "scale": 9234299.783085939
   },
   {
    "level": 7,
    "resolution": 0.010986328125000003,
    "scale": 4617149.891542969
   },
   {
    "level": 8,
    "resolution": 0.005493164062500002,
    "scale": 2308574.9457714846
   },
   {
    "level": 9,
    "resolution": 0.002746582031250001,
    "scale": 1154287.4728857423
   },
   {
    "level": 10,
    "resolution": 0.0013732910156250004,
    "scale": 577143.7364428712
   },
   {
    "level": 11,
    "resolution": 6.866455078125002E-4,
    "scale": 288571.8682214356
   },
   {
    "level": 12,
    "resolution": 3.433227539062501E-4,
    "scale": 144285.9341107178
   },
   {
    "level": 13,
    "resolution": 1.7166137695312505E-4,
    "scale": 72142.9670553589
   },
   {
    "level": 14,
    "resolution": 8.583068847656253E-5,
    "scale": 36071.48352767945
   },
   {
    "level": 15,
    "resolution": 4.2915344238281264E-5,
    "scale": 18035.741763839724
   },
   {
    "level": 16,
    "resolution": 2.1457672119140632E-5,
    "scale": 9017.870881919862
   },
   {
    "level": 17,
    "resolution": 1.0728836059570316E-5,
    "scale": 4508.935440959931
   },
   {
    "level": 18,
    "resolution": 5.364418029785158E-6,
    "scale": 2254.4677204799655
   },
   {
    "level": 19,
    "resolution": 2.682209014892579E-6,
    "scale": 1127.2338602399827
   },
   {
    "level": 20,
    "resolution": 1.3411045074462895E-6,
    "scale": 563.6169301199914
   }
  ]
 },
 "initialExtent": {
  "xmin": 118.20870320102449,
  "ymin": 29.74102252354156,
  "xmax": 118.35607608179498,
  "ymax": 29.885011843273958,
  "spatialReference": {
   "cs": "gcs",
   "wkid": 4490
  }
 },
 "fullExtent": {
  "xmin": 118.17239854800005,
  "ymin": 29.657175804000076,
  "xmax": 118.42486845600001,
  "ymax": 29.92116733383264,
  "spatialReference": {
   "cs": "gcs",
   "wkid": 4490
  }
 },
 "minScale": 577143.7364428712,
 "maxScale": 9017.870881919862,
 "units": "esriDecimalDegrees",
 "supportedImageFormatTypes": "PNG32,PNG24,PNG,JPG,DIB,TIFF,EMF,PS,PDF,GIF,SVG,SVGZ,BMP",
 "documentInfo": {
  "Title": "",
  "Author": "",
  "Comments": "",
  "Subject": "",
  "Category": "",
  "AntialiasingMode": "Best",
  "TextAntialiasingMode": "Force",
  "Keywords": ""
 },
 "capabilities": "Map,Query,Data",
 "supportedQueryFormats": "JSON, AMF, geoJSON",
 "exportTilesAllowed": false,
 "supportsDatumTransformation": true,
 "maxRecordCount": 1000,
 "maxImageHeight": 4096,
 "maxImageWidth": 4096,
 "supportedExtensions": "KmlServer"
}
